BEGIN:VCALENDAR
PRODID:-//www.trio-benares.com//EN
VERSION:2.0
METHOD:PUBLISH
BEGIN:VEVENT
DTSTART;TZID=America/New_York:20180408T
DTEND;TZID=America/New_York:20180408T
URL:https://www.trio-benares.com/concerts/trio-benares/
SUMMARY:Trio Benares
END:VEVENT
END:VCALENDAR